BEGIN:VCALENDAR
VERSION:2.0
PRODID:https://www.marktessing.de/
X-PUBLISHED-TTL:P1D
BEGIN:VEVENT
UID:69e738ffb39fa
DTSTART:20260426T120000Z
SEQUENCE:0
TRANSP:OPAQUE
DTEND:20260426T123000Z
URL:https://www.marktessing.de/veranstaltungen/mysterioese_wesen_der_nacht-
 678023/
LOCATION:Tropfsteinhöhle Schulerloch - Essing
SUMMARY:Mysteriöse Wesen der Nacht
DTSTAMP:20260421T104447Z
END:VEVENT
END:VCALENDAR