BEGIN:VCALENDAR
VERSION:2.0
PRODID:https://www.marktessing.de/
X-PUBLISHED-TTL:P1D
BEGIN:VEVENT
UID:69e5969a73dd6
DTSTART:20260425T110000Z
SEQUENCE:0
TRANSP:OPAQUE
DTEND:20260425T150000Z
URL:https://www.marktessing.de/veranstaltungen/kunstausstellung_im_memu_ess
 in-767361-12663193/
LOCATION:MEMU-Essing - Essing
SUMMARY:Kunstausstellung im MEMU Essing - geöffnet: Sa/So und Feiertags - 
 13 Uhr bis 17 Uhr
DESCRIPTION:VIS a VIS
DTSTAMP:20260420T045938Z
END:VEVENT
END:VCALENDAR